BEGIN:VCALENDAR
VERSION:2.0
METHOD:PUBLISH
BEGIN:VEVENT
UID:event_241
DTSTAMP:20260423T075327Z
DTSTART:20260225T100000Z
DTEND:20260225T200000Z
SUMMARY:Alien Labs, Connected
DESCRIPTION:
LOCATION:All Stores
END:VEVENT
END:VCALENDAR
