BEGIN:VCALENDAR
VERSION:2.0
METHOD:PUBLISH
BEGIN:VEVENT
UID:event_238
DTSTAMP:20260423T075537Z
DTSTART:20260222T100000Z
DTEND:20260222T200000Z
SUMMARY:Stiiizy
DESCRIPTION:
LOCATION:All Stores
END:VEVENT
END:VCALENDAR
