BEGIN:VCALENDAR
VERSION:2.0
METHOD:PUBLISH
BEGIN:VEVENT
UID:event_234
DTSTAMP:20260423T075414Z
DTSTART:20260220T100000Z
DTEND:20260220T200000Z
SUMMARY:Upnorth
DESCRIPTION:
LOCATION:All Stores
END:VEVENT
END:VCALENDAR
