BEGIN:VCALENDAR
VERSION:2.0
METHOD:PUBLISH
BEGIN:VEVENT
UID:event_215
DTSTAMP:20260423T075836Z
DTSTART:20260209T100000Z
DTEND:20260209T200000Z
SUMMARY:Sluggers Hit
DESCRIPTION:
LOCATION:All Stores
END:VEVENT
END:VCALENDAR
