BEGIN:VCALENDAR
VERSION:2.0
METHOD:PUBLISH
BEGIN:VEVENT
UID:event_213
DTSTAMP:20260423T075913Z
DTSTART:20260208T100000Z
DTEND:20260208T200000Z
SUMMARY:Stiiizy
DESCRIPTION:
LOCATION:All Stores
END:VEVENT
END:VCALENDAR
